BEGIN:VCALENDAR
VERSION:2.0
PRODID:gruene-recklinghausen.de
METHOD:PUBLISH
BEGIN:VTIMEZONE
TZID:Europe/Berlin
X-LIC-LOCATION:Europe/Berlin
BEGIN:DAYLIGHT
TZOFFSETFROM:+0100
TZOFFSETTO:+0200
TZNAME:CEST
DTSTART:19700329T020000
RRULE:FREQ=YEARLY;INTERVAL=1;BYDAY=-1SU;BYMONTH=3
END:DAYLIGHT
BEGIN:STANDARD
TZOFFSETFROM:+0200
TZOFFSETTO:+0100
TZNAME:CET
DTSTART:19701025T030000
RRULE:FREQ=YEARLY;INTERVAL=1;BYDAY=-1SU;BYMONTH=10
END:STANDARD
END:VTIMEZONE
BEGIN:VEVENT
UID:78d8cdb39597394be753754c0509f174@gruene-recklinghausen.de
URL;VALUE=URI:https://gruene-recklinghausen.de/termine/weihnachtsfeier/
LOCATION:Grünes Büro, Friedhofstr. 6, Recklinghausen
SUMMARY:Weihnachtsfeier
DESCRIPTION;ALTREP="data:text/html,":
CLASS:PUBLIC
DTSTART;TZID=Europe/Berlin:20241220T193000
DTEND;TZID=Europe/Berlin:20241220T203000
DTSTAMP:20260423T155234
END:VEVENT
END:VCALENDAR