BEGIN:VCALENDAR
VERSION:2.0
PRODID:gruene-recklinghausen.de
METHOD:PUBLISH
BEGIN:VTIMEZONE
TZID:Europe/Berlin
X-LIC-LOCATION:Europe/Berlin
BEGIN:DAYLIGHT
TZOFFSETFROM:+0100
TZOFFSETTO:+0200
TZNAME:CEST
DTSTART:19700329T020000
RRULE:FREQ=YEARLY;INTERVAL=1;BYDAY=-1SU;BYMONTH=3
END:DAYLIGHT
BEGIN:STANDARD
TZOFFSETFROM:+0200
TZOFFSETTO:+0100
TZNAME:CET
DTSTART:19701025T030000
RRULE:FREQ=YEARLY;INTERVAL=1;BYDAY=-1SU;BYMONTH=10
END:STANDARD
END:VTIMEZONE
BEGIN:VEVENT
UID:4e92811d4a5f288b510d5bab41134399@gruene-recklinghausen.de
URL;VALUE=URI:https://gruene-recklinghausen.de/termine/sitzung-des-ortsve
 rbands-6/
LOCATION:Grünes Büro, Friedhofstr. 6, RE
SUMMARY:Sitzung des Ortsverbands
DESCRIPTION;ALTREP="data:text/html,%0A%3Cp%3Ezu%20Gast%20ist%20Alexandra%
 20Schoo%2C%20Mitglied%20im%20Landesvorstand%2C%20um%20%C3%BCber%20das%20T
 hema%20Castor-Transporte%20zu%20berichten%3C%2Fp%3E%0A":zu Gast ist Alexa
 ndra Schoo\, Mitglied im Landesvorstand\, um über das Thema Castor-Trans
 porte zu berichten
CLASS:PUBLIC
DTSTART;TZID=Europe/Berlin:20260528T190000
DTEND;TZID=Europe/Berlin:20260528T210000
DTSTAMP:20260425T134732
END:VEVENT
END:VCALENDAR